BEGIN:VCALENDAR
VERSION:2.0
PRODID:-//wp-events-plugin.com//7.2.3.1//EN
BEGIN:VEVENT
UID:235@harmonymaidstone.co.uk
DTSTART:20260502T183000Z
DTEND:20260502T213000Z
DTSTAMP:20260423T124348Z
URL:https://harmonymaidstone.co.uk/events/harmony-poets-night-the-fringe-f
 estival-special/
SUMMARY:Harmony Poets Night: The Fringe Festival Special!
DESCRIPTION:As part of the vibrant Maidstone Fringe Festival\, Harmony is t
 urning up the volume on the spoken word! We’re stepping out of our usual
  "third Friday" slot for a one-off Saturday night spectacular that celebra
 tes the raw talent and diverse voices of our community.\n\nWhether you are
  a seasoned slam poet\, a first-time storyteller\, or just someone who lov
 es the energy of live performance\, this is your invitation to the stage. 
 For this special Fringe edition\, we are opening our doors to all ages\, m
 aking it the perfect evening for families\, students\, and creative souls 
 of every generation to experience the power of words together.\nWhat to Ex
 pect:\n\n 	Guest Performances: Special sets from local Fringe favorites.\n
  	The Open Mic: Your chance to share your work on the Harmony stage.\n 	Fe
 stival Vibes: A high-energy\, supportive\, and inclusive atmosphere.\n\nEv
 ent Details\n\n 	When: Saturday\, 2nd May\n 	Time: 6:30pm – 9:30pm\n 	Wh
 ere: Harmony HQ\, The Mall\, Maidstone - ///hidden.calls.ladder\n 	Age Lim
 it: All ages welcome! (Under 16s must be accompanied by an adult)\n\nEntry
  &amp\; Bar\n\n 	Entry: £10 General / £7 Harmony Members\n 	The Bar: We
 ’ll be serving soft drinks\, mixers\, and snacks.\n 	BYOB: Bringing your
  own? A £5 corkage fee applies per person (challenge 25 in operation at t
 he door)\n\nJoin us for a night of rhythm\, rhyme\, and Fringe magic. Let
 ’s make some noise for Maidstone’s creative community!
ATTACH;FMTTYPE=image/jpeg:https://harmonymaidstone.co.uk/wp-content/upload
 s/2026/04/FF-IG-6.jpg
CATEGORIES:Maidstone Fringe,Poets Night
END:VEVENT
END:VCALENDAR