BEGIN:VCALENDAR
VERSION:2.0
PRODID:-//wp-events-plugin.com//7.2.3.1//EN
BEGIN:VEVENT
UID:234@harmonymaidstone.co.uk
DTSTART:20260502T130000Z
DTEND:20260502T150000Z
DTSTAMP:20260423T124430Z
URL:https://harmonymaidstone.co.uk/events/harmonix-x-fringe-festival-the-o
 ne-off-production-special/
SUMMARY:Harmonix x Fringe Festival: The One-Off Production Special
DESCRIPTION:Ready to see what happens behind the scenes of a track?\n\nAs p
 art of this year’s Fringe Festival\, we are opening the doors of the Har
 monix studio for an exclusive\, all-ages workshop! Whether you’ve never 
 touched a MIDI controller before or you’re already cooking up beats in y
 our bedroom\, this is your chance to dive into the world of music producti
 on.\nWhat’s happening?\nThis is a high-energy\, hands-on session where y
 ou’ll get to:\n\n 	Work with Industry Experts: Get real-time tips from p
 ros who know the business.\n 	Explore Your Sound: Have a go at professiona
 l gear and software in a "very chill\, very engaging" environment.\n 	Join
  the Community: Meet fellow music lovers and creators in the heart of the 
 Fringe buzz.\n\nPay What You Can\nWe believe creativity should be accessib
 le to everyone. This special Fringe session is run on a donation basis. Si
 mply pay what you can afford—your support helps us keep the music playin
 g at Harmony!\n\nWhen: Saturday 2nd May 1pm-3pm\n\nWhere: Harmony HQ - The
  Mall\n\nEntry: Donation-based (Pay what you can)\n\nWho: All ages &amp\; 
 all skill levels welcome!\n\nDon’t just listen to the music this Fringe 
 Festival—come and make it.
ATTACH;FMTTYPE=image/jpeg:https://harmonymaidstone.co.uk/wp-content/upload
 s/2026/04/FF-IG-1.jpg
CATEGORIES:Harmonix,Maidstone Fringe
END:VEVENT
END:VCALENDAR