BEGIN:VCALENDAR
VERSION:2.0
PRODID:-//wp-events-plugin.com//7.2.3.1//EN
BEGIN:VEVENT
UID:233@harmonymaidstone.co.uk
DTSTART:20260430T180000Z
DTEND:20260430T210000Z
DTSTAMP:20260423T124445Z
URL:https://harmonymaidstone.co.uk/events/get-ready-to-get-loud-thrash-thu
 rsday-at-harmony-hq/
SUMMARY:Get Ready to Get Loud: Thrash Thursday at Harmony HQ
DESCRIPTION:As part of our first-ever year as a Maidstone Fringe Festival v
 enue\, we’re turning the volume all the way up for a night of pure\, una
 dulterated energy.\n\nThrash Thursday is taking over the new Harmony HQ fo
 r a heavy-hitting showcase of local metal and punk. This isn’t just a gi
 g\; it’s a space for under-25s to let go\, embrace the noise\, and conne
 ct with the loudest side of the Maidstone creative scene.\nThe Lineup:\n\n
  	Crowd Control: Brutal riffs and heavy metal energy.\n 	Psychosis: Dark\,
  technical\, and uncompromising metal.\n 	Lunacy!: Fast-paced\, high-volta
 ge punk to get the room moving.\n\nWhy Come?\nWe know that for many of us\
 , heavy music is the best way to deal with stress and anxiety. Whether you
 ’re right in the middle of the mosh pit or prefer to take it all in from
  the side\, the vibe is all about mutual respect and community. It’s goi
 ng to be loud\, it’s going to be aggressive\, and it’s going to be exa
 ctly what you need.\nThe Details:\n\n 	When: Thursday 30th April\, as part
  of the Maidstone Fringe.\n 	Where: The New Harmony HQ\, ///hidden.calls.l
 adder\n 	Who: Strictly for young people (Under 25s) - (under 13 must be ac
 companied by an adult\, over 25s will need to be escorting a young person
 )\n 	Entry: £7 members - £10 non-members (Sign up for FREE membership o
 n this site!)\n\nImportant Note: We’re a safe space. If you’re feeling
  anxious about attending your first heavy show\, don't sweat it—our team
  is on hand to make sure everyone feels welcome. Earplugs are available on
 -site!
ATTACH;FMTTYPE=image/jpeg:https://harmonymaidstone.co.uk/wp-content/upload
 s/2026/04/FF-IG-2.jpg
CATEGORIES:Maidstone Fringe
END:VEVENT
END:VCALENDAR