BEGIN:VCALENDAR
VERSION:2.0
PRODID:-//wp-events-plugin.com//7.2.3.1//EN
BEGIN:VEVENT
UID:231@harmonymaidstone.co.uk
DTSTART:20260617T183000Z
DTEND:20260617T213000Z
DTSTAMP:20260415T122532Z
URL:https://harmonymaidstone.co.uk/events/battle-of-the-bands-maidstone-pr
 ide-2026-06-03-2026-06-10-2026-06-17/
SUMMARY:HEAT 3 -Battle of the Bands - Maidstone Pride
DESCRIPTION:Harmony will be teaming up with Maidstone Pride for an exciting
  new event\, focusing on queer musicians.\n\nThroughout the month of June\
 , Harmony will be holding a Battle of the Bands\, specifically for musicia
 ns under 25 who perform original music! Focusing on the LGBTQIA+ community
 \, we aim to create a friendly competition which will support Maidstone Pr
 ide’s 2026 activities. If this sounds like your thing why not sign up!\n
 - SIGN UP HERE -\nEach week will bring a new round\, with the final taking
  place in the last week of June. The dates are as follows\;\n\n 	Heat 1- W
 ednesday 3rd June 2026\n 	Heat 2- Wednesday 10th June 2026\n 	Heat 3- Wedn
 esday 17th June 2026\n 	Final- Wednesday 24th June 2026\n\nEvery heat will
  have 3 different bands playing their own original music. Out of these thr
 ee\, one band will go through to the final. This means that by the final W
 ednesday in June there will be 3 finalists- they will battle it out betwee
 n each other!\n\nEvery band that performs at the event will get a free liv
 e recording of their favourite song from their set\, and the winning band 
 or artist will win a chance to record their music in a studio! We want to 
 remain as inclusive as possible\, and show our appreciation for all the ta
 lent these people have!\n\nThe Fine Print: Limited slots available. This i
 s a curated lineup with a focus on highlighting LGBTQIA+ talent for Pride.
  Not all applicants will be selected to perform.
ATTACH;FMTTYPE=image/jpeg:https://harmonymaidstone.co.uk/wp-content/upload
 s/2026/04/Sign-up-poster-A4-JPG.jpg
CATEGORIES:Special Event
END:VEVENT
END:VCALENDAR